Workbook

Sheet Tabelle1
B1: act Cleantech Agentur Schweiz
B2: Mühlegasse 29
B3: CH-8001 Zürich
B4: Tel. +41 58 750 05 00
B5: info@act-schweiz.ch
B6: www.act-schweiz.ch
B10: Antragsformular zur Akkreditierung
B11: als act-Energiespezialist/in
B13: A) Kontaktangaben
B16: Name | O16: Vorname
B17: Titel | O17: Funktion
B18: Firma | O18: Strasse, Nr.
B19: Tel. G. | O19: PLZ, Ort
B20: Tel. Mobil | O20: E-Mail
B21: Fax | O21: Website (Firma)
B24: B) Angaben zur Person
B27: Es ist ein detaillierter Lebenslauf beizulegen.
B29: Relevante Ausbildung:
B33: Relevante Berufs-erfahrung:
B37: Mitgliedschaften (EnAW, energo usw.):
B39: Persönliche Erfahrung in der Energieberatung für Unternehmenskunden:
C41: Jahre | H41: durchgeführte Beratungsprojekte | Q41: Eine Liste der Projekte ist beizulegen.
B43: Arbeitssprachen (bitte ankreuzen):
C45: Deutsch | H45: Französisch | M45: Italienisch | R45: Rätoromanisch | X45: Englisch
B47: Geographische Ausdehnung der persönlichen Tätigkeit (bitte ankreuzen):
C49: JU | H49: BS | M49: ZG | R49: SH | X49: GR
C50: NE | H50: BL | M50: SZ | R50: TG | X50: TI
C51: VD | H51: SO | M51: LU | R51: AR
C52: GE | H52: AG | M52: NW | R52: AI
C53: FR | H53: BE | M53: OW | R53: SG
C54: VS | H54: ZH | M54: UR | R54: GL
B56: Bestehender Kundenstamm (Unternehmenskunden in Ihrem Portfolio, denen Sie die act-Dienstleistungen anbieten können):
C59: 0 Firmen | H59: 1-10 Firmen | M59: 10-20 Firmen | R59: 20-50 Firmen | X59: >50 Firmen
B62: C) Angaben zur Firma
B65: Haupttätigkeit (Kurzbeschrieb):
B69: Wieviele Personen sind als EnergieberaterInnen für Unternehmenskunden tätig?
B73: D) Angaben zu Kompetenzen
B76: Technische Kompetenz | Q76: Persönlich | W76: in der Firma
Q77: 1=keine, 6=sehr gute | W77: 1=keine, 6=sehr gute
Q78: Kenntnisse | W78: Kenntnisse
...

Sheet Tabelle2
A1: =Tabelle1!B16 -> Name | B1: =Tabelle1!O16 -> Vorname | C1: =Tabelle1!B17 -> Titel | D1: =Tabelle1!O17 -> Funktion | E1: =Tabelle1!B18 -> Firma | F1: =Tabelle1!O18 -> Strasse, Nr. | G1: =Tabelle1!B19 -> Tel. G. | H1: =Tabelle1!B20 -> Tel. Mobil | I1: =Tabelle1!B21 -> Fax | J1: PLZ | K1: Ort | L1: =Tabelle1!O20 -> E-Mail | M1: =Tabelle1!O21 -> Website (Firma) | N1: =Tabelle1!B29 -> Relevante Ausbildung: | O1: Ausbildung Zeile 2 | P1: Ausbildung Zeile 3 | Q1: =Tabelle1!B33 -> Relevante Berufs-erfahrung: | R1: Berufserfahrung Zeile 2 | S1: Berufserfahung Zeile 3 | T1: =Tabelle1!B37 -> Mitgliedschaften (EnAW, energo usw.): | U1: Erfahrung Jahre | V1: Erfahrung Projekte | W1: =Tabelle1!C45 -> Deutsch | X1: =Tabelle1!H45 -> Französisch | Y1: =Tabelle1!M45 -> Italienisch | Z1: =Tabelle1!R45 -> Rätoromanisch | AA1: =Tabelle1!X45 -> Englisch | AB1: JU | AC1: NE | AD1: VD | AE1: GE | AF1: FR | AG1: VS | AH1: BS | AI1: BL | AJ1: SO | AK1: AG | AL1: BE | AM1: ZH | AN1: ZG | AO1: SZ | AP1: LU | AQ1: NW | AR1: OW | AS1: UR | AT1: SH | AU1: TG | AV1: AR | AW1: AI | AX1: SG | AY1: GL | AZ1: GR | BA1: TI | BB1: =Tabelle1!C59 -> 0 Firmen | BC1: =Tabelle1!H59 -> 1-10 Firmen | BD1: =Tabelle1!M59 -> 10-20 Firmen | BE1: =Tabelle1!R59 -> 20-50 Firmen | BF1: =Tabelle1!X59 -> >50 Firmen | BG1: =Tabelle1!B65 -> Haupttätigkeit (Kurzbeschrieb): | BH1: =Tabelle1!B69 -> Wieviele Personen sind als EnergieberaterInnen für Unternehmenskunden tätig? | BI1: P Heizung, Lüftung, Kältetechnik | BJ1: P Pumpen | BK1: P Druckluft (Erzeugung & Verteilung) | BL1: P Gewerbliche Kälte (Erzeugung und Verteilung) | BM1: P Elektrische Antriebe | BN1: P Beleuchtung | BO1: P Gebäudehülle | BP1: P Wärmerückgewinnung | BQ1: P Nutzung von erneuerbaren Energien | BR1: P Weitere 1 was | BS1: P Weitere 1 Bew. | BT1: P Weitere 2 was | BU1: P Weitere 2 Bew. | BV1: F Heizung, Lüftung, Kältetechnik | BW1: F Pumpen | BX1: F Druckluft (Erzeugung & Verteilung) | BY1: F Gewerbliche Kälte (Erzeugung und Verteilung) | BZ1: F Elektrische Antriebe | CA1: F Beleuchtung | CB1: F Gebäudehülle | CC1: F Wärmerückgewinnung | CD1: F Nutzung von erneuerbaren Energien | CE1: F Weitere 1 Bew. | CF1: F Weitere 2 Bew. | CG1: P Beratung | CH1: P Planung / Engineering | CI1: P Installation | CJ1: P Monitoring | CK1: F Beratung | CL1: F Planung / Engineering | CM1: F Installation | CN1: F Monitoring | CO1: Methoden 1 | CP1: Methoden 2 | CQ1: Methoden 3 | CR1: Methoden 4 | CS1: Methoden 5 | CT1: Methoden 6 | CU1: Methoden 7 | CV1: Methoden 8 | CW1: Methoden 9 | CX1: Methoden 10 | CY1: Branchenerfahrung 1 | CZ1: Branchenerfahrung 2 | DA1: Branchenerfahrung 3 | DB1: Branchenerfahrung 4 | DC1: Branchenerfahrung 5 | DD1: Branchenerfahrung 6 | DE1: Branchenerfahrung 7 | DF1: Branchenerfahrung 8 | DG1: Branchenerfahrung 9 | DH1: Branchenerfahrung 10 | DI1: =Tabelle1!B157 -> Ort, Datum: | DJ1: =Tabelle1!O157 -> Vorname, Name: | DK1: =Tabelle1!B163 -> Unterschrift: | DL1: Lebenslauf | DM1: Projektliste (siehe Punkt B) | DN1: Referenzprojekt 1 | DO1: Referenzprojekt 2 | DP1: Portraitfoto für die act-Website | DQ1: Firmenlogo für die act-Website
A2: =Tabelle1!F16 -> 0 | B2: =Tabelle1!S16 -> 0 | C2: =Tabelle1!F17 -> 0 | D2: =Tabelle1!S17 -> 0 | E2: =Tabelle1!F18 -> 0 | F2: =Tabelle1!S18 -> 0 | G2: =Tabelle1!F19 -> 0 | H2: =Tabelle1!F20 -> 0 | I2: =Tabelle1!F21 -> 0 | J2: =Tabelle1!S19 -> 0 | K2: =Tabelle1!V19 -> 0 | L2: =Tabelle1!S20 -> 0 | M2: =Tabelle1!S21 -> 0 | N2: =Tabelle1!F29 -> 0 | O2: =Tabelle1!F30 -> 0 | P2: =Tabelle1!F31 -> 0 | Q2: =Tabelle1!F33 -> 0 | R2: =Tabelle1!F34 -> 0 | S2: =Tabelle1!F35 -> 0 | T2: =Tabelle1!L37 -> 0 | U2: =Tabelle1!B41 -> 0 | V2: =Tabelle1!G41 -> 0 | W2: =Tabelle1!B45 -> 0 | X2: =Tabelle1!G45 -> 0 | Y2: =Tabelle1!L45 -> 0 | Z2: =Tabelle1!Q45 -> 0 | AA2: =Tabelle1!W45 -> 0 | AB2: =Tabelle1!B49 -> 0 | AC2: =Tabelle1!B50 -> 0 | AD2: =Tabelle1!B51 -> 0 | AE2: =Tabelle1!B52 -> 0 | AF2: =Tabelle1!B53 -> 0 | AG2: =Tabelle1!B54 -> 0 | AH2: =Tabelle1!G49 -> 0 | AI2: =Tabelle1!G50 -> 0 | AJ2: =Tabelle1!G51 -> 0 | AK2: =Tabelle1!G52 -> 0 | AL2: =Tabelle1!G53 -> 0 | AM2: =Tabelle1!G54 -> 0 | AN2: =Tabelle1!L49 -> 0 | AO2: =Tabelle1!L50 -> 0 | AP2: =Tabelle1!L51 -> 0 | AQ2: =Tabelle1!L52 -> 0 | AR2: =Tabelle1!L53 -> 0 | AS2: =Tabelle1!L54 -> 0 | AT2: =Tabelle1!Q49 -> 0 | AU2: =Tabelle1!Q50 -> 0 | AV2: =Tabelle1!Q51 -> 0 | AW2: =Tabelle1!Q52 -> 0 | AX2: =Tabelle1!Q53 -> 0 | AY2: =Tabelle1!Q54 -> 0 | AZ2: =Tabelle1!W49 -> 0 | BA2: =Tabelle1!W50 -> 0 | BB2: =Tabelle1!B59 -> 0 | BC2: =Tabelle1!G59 -> 0 | BD2: =Tabelle1!L59 -> 0 | BE2: =Tabelle1!Q59 -> 0 | BF2: =Tabelle1!W59 -> 0 | BG2: =Tabelle1!J65 -> 0 | BH2: =Tabelle1!Z69 -> 0 | BI2: =Tabelle1!Q80 -> 0 | BJ2: =Tabelle1!Q81 -> 0 | BK2: =Tabelle1!Q82 -> 0 | BL2: =Tabelle1!Q83 -> 0 | BM2: =Tabelle1!Q84 -> 0 | BN2: =Tabelle1!Q85 -> 0 | BO2: =Tabelle1!Q86 -> 0 | BP2: =Tabelle1!Q87 -> 0 | BQ2: =Tabelle1!Q88 -> 0 | BR2: =Tabelle1!E89 -> 0 | BS2: =Tabelle1!Q89 -> 0 | BT2: =Tabelle1!E90 -> 0 | BU2: =Tabelle1!Q90 -> 0 | BV2: =Tabelle1!W80 -> 0 | BW2: =Tabelle1!W81 -> 0 | BX2: =Tabelle1!W82 -> 0 | BY2: =Tabelle1!W83 -> 0 | BZ2: =Tabelle1!W84 -> 0 | CA2: =Tabelle1!W85 -> 0 | CB2: =Tabelle1!W86 -> 0 | CC2: =Tabelle1!W87 -> 0 | CD2: =Tabelle1!W88 -> 0 | CE2: =Tabelle1!W89 -> 0 | CF2: =Tabelle1!W90 -> 0 | CG2: =Tabelle1!Q94 -> 0 | CH2: =Tabelle1!Q95 -> 0 | CI2: =Tabelle1!Q96 -> 0 | CJ2: =Tabelle1!Q97 -> 0 | CK2: =Tabelle1!W94 -> 0 | CL2: =Tabelle1!W95 -> 0 | CM2: =Tabelle1!W96 -> 0 | CN2: =Tabelle1!W97 -> 0 | CO2: =Tabelle1!B104 -> 0 | CP2: =Tabelle1!B105 -> 0 | CQ2: =Tabelle1!B106 -> 0 | CR2: =Tabelle1!B107 -> 0 | CS2: =Tabelle1!B108 -> 0 | CT2: =Tabelle1!O104 -> 0 | CU2: =Tabelle1!O105 -> 0 | CV2: =Tabelle1!O106 -> 0 | CW2: =Tabelle1!O107 -> 0 | CX2: =Tabelle1!O108 -> 0 | CY2: =Tabelle1!B115 -> 0 | CZ2: =Tabelle1!B116 -> 0 | DA2: =Tabelle1!B117 -> 0 | DB2: =Tabelle1!B118 -> 0 | DC2: =Tabelle1!B119 -> 0 | DD2: =Tabelle1!O115 -> 0 | DE2: =Tabelle1!O116 -> 0 | DF2: =Tabelle1!O117 -> 0 | DG2: =Tabelle1!O118 -> 0 | DH2: =Tabelle1!O119 -> 0 | DI2: =Tabelle1!G157 -> 0 | DJ2: =Tabelle1!T157 -> 0 | DK2: =Tabelle1!G159 -> 0 | DL2: =Tabelle1!B170 -> 0 | DM2: =Tabelle1!B171 -> 0 | DN2: =Tabelle1!B172 -> 0 | DO2: =Tabelle1!B173 -> 0 | DP2: =Tabelle1!B174 -> 0 | DQ2: =Tabelle1!B175 -> 0

Sheet Tabelle3
